BEGIN:VCALENDAR
VERSION:2.0
PRODID:-//https://www.windenergyireland.com///NONSGML kigkonsult.se iCalcreator 2.10.15//
METHOD:PUBLISH
BEGIN:VEVENT
UID:20260423T172910UTC-4238tZgpj2@https://www.windenergyireland.com/
DTSTAMP:20260423T172910Z
DESCRIPTION: https://www.windenergyireland.com/events/previous-events/event
 /37-windeurope-copenhagen
DTSTART;VALUE=DATE:20230425
LOCATION:Copenhagen ()
SUMMARY:WindEurope\, Copenhagen
URL:https://www.windenergyireland.com/events/previous-events/event/37-winde
 urope-copenhagen
END:VEVENT
END:VCALENDAR
