BEGIN:VCALENDAR
VERSION:2.0
PRODID:-//https://www.windenergyireland.com///NONSGML kigkonsult.se iCalcreator 2.10.15//
METHOD:PUBLISH
BEGIN:VEVENT
UID:20260423T165602UTC-9793zWuxj9@https://www.windenergyireland.com/
DTSTAMP:20260423T165602Z
DESCRIPTION:Smart Energy 2023 will be held in ICC Belfast on 19 October 202
 3. A packed conference followed by a networking drinks reception.\nThis ye
 ar the theme is ‘Powering the Revolution’ as we look at how Northern Irela
 nd’s renewable electricity industry will lead the way towards achieving ne
 t zero. The premier renewable energy event in Northern Ireland\, Smart Ene
 rgy features a vibrant mix of keynote addresses\, panel discussions and ne
 tworking opportunities.&nbsp\; Topics for the panel discussions this year 
 include the Climate and Biodiversity crises and building the offshore wind
  industry.\nPROGRAMME\nView the most up to date programme here.\nREGISTRAT
 ION – 10% discount for previous attendees to the event until Wednesday 27 
 September! \nTickets are available now – Register here! https://www.winden
 ergyireland.com/events/previous-events/event/41-renewableni-smart-energy-c
 onference
DTSTART;VALUE=DATE:20231019
LOCATION:ICC Belfast (2 Lanyon Place\, Belfast BT1 3WH)
SUMMARY:RenewableNI Smart Energy Conference
URL:https://www.windenergyireland.com/events/previous-events/event/41-renew
 ableni-smart-energy-conference
END:VEVENT
END:VCALENDAR
