BEGIN:VCALENDAR
VERSION:2.0
PRODID:-//https://www.windenergyireland.com///NONSGML kigkonsult.se iCalcreator 2.10.15//
METHOD:PUBLISH
BEGIN:VEVENT
UID:20260423T165146UTC-01483D87Zw@https://www.windenergyireland.com/
DTSTAMP:20260423T165146Z
DESCRIPTION: https://www.windenergyireland.com/events/previous-events/event
 /57-esi-2024-annual-conference
DTSTART:20230705T114800Z
DTEND:20241011T113000Z
LOCATION:TBC ()
SUMMARY:ESI 2024 Annual Conference
URL:https://www.windenergyireland.com/events/previous-events/event/57-esi-2
 024-annual-conference
END:VEVENT
END:VCALENDAR
