BEGIN:VCALENDAR
VERSION:2.0
PRODID:-//https://www.windenergyireland.com///NONSGML kigkonsult.se iCalcreator 2.10.15//
METHOD:PUBLISH
BEGIN:VEVENT
UID:20260423T165644UTC-7179V1MkxU@https://www.windenergyireland.com/
DTSTAMP:20260423T165644Z
DESCRIPTION: https://www.windenergyireland.com/events/previous-events/event
 /58-irish-wind-industry-awards-2024
DTSTART:20230705T130728Z
DTEND:20230705T150728Z
LOCATION:TBC ()
SUMMARY:Irish Wind Industry Awards 2024
URL:https://www.windenergyireland.com/events/previous-events/event/58-irish
 -wind-industry-awards-2024
END:VEVENT
END:VCALENDAR
