BEGIN:VCALENDAR
VERSION:2.0
PRODID:-//https://www.windenergyireland.com///NONSGML kigkonsult.se iCalcreator 2.10.15//
METHOD:PUBLISH
BEGIN:VEVENT
UID:20260423T165202UTC-6021dXbJJs@https://www.windenergyireland.com/
DTSTAMP:20260423T165202Z
DESCRIPTION:As an official partner of the event&nbsp\;Wind Energy Ireland a
 re delighted to support WindEurope's Technology Workshop 2024 in Dublin th
 is year!&nbsp\;\nA call for abstracts is now running and WindEurope are in
 viting WEI members to apply.&nbsp\;&nbsp\;\n\n&nbsp\;\nFor more informatio
 n about the event please visit the WindEurope events page. https://www.win
 denergyireland.com/events/previous-events/event/69-windeurope-technology-w
 orkshop-2024-dublin
DTSTART:20240610T074600Z
DTEND:20240611T094600Z
LOCATION:Clayton Hotel\, Burlington\, Dublin  (Leeson Street Upper )
SUMMARY:WindEurope Technology Workshop 2024 - Dublin!
URL:https://www.windenergyireland.com/events/previous-events/event/69-winde
 urope-technology-workshop-2024-dublin
END:VEVENT
END:VCALENDAR
