BEGIN:VCALENDAR
VERSION:2.0
PRODID:-//https://www.windenergyireland.com///NONSGML kigkonsult.se iCalcreator 2.10.15//
METHOD:PUBLISH
BEGIN:VEVENT
UID:20260423T164844UTC-1125wlRw5p@https://www.windenergyireland.com/
DTSTAMP:20260423T164844Z
DESCRIPTION:Join us in the Kingsley Hotel in Cork from 5:30pm on Tuesday th
 e 25th of June for&nbsp\;our summer BBQ.&nbsp\;\n&nbsp\;\nThis event is be
 ing held for WEI members only and is free to attend. However the venue cap
 acity is limited so be sure to reserve your place in advance. To register\
 , email&nbsp\;events@windenergyireland.com https://www.windenergyireland.c
 om/events/previous-events/event/73-connect-event
DTSTART:20240625T163000Z
DTEND:20240625T190000Z
LOCATION:The Kingsley Hotel\, Cork  ()
SUMMARY:Connect Event
URL:https://www.windenergyireland.com/events/previous-events/event/73-conne
 ct-event
END:VEVENT
END:VCALENDAR
