BEGIN:VCALENDAR
VERSION:2.0
PRODID:-//https://www.windenergyireland.com///NONSGML kigkonsult.se iCalcreator 2.10.15//
METHOD:PUBLISH
BEGIN:VEVENT
UID:20260423T165034UTC-8691bgsSwO@https://www.windenergyireland.com/
DTSTAMP:20260423T165034Z
DESCRIPTION:WEI’s State of Energy Policy 2024\, our Q4 Policy Forum\, will 
 explore how the Irish energy policy landscape has evolved over the past ye
 ar — specifically from the perspective of onshore and offshore wind energy
  development.\nWith input from WEI Committee chairs and vice chairs\, our 
 member companies\, Government and state agency officials and industry expe
 rts\, the event will cover a broad range of topics that are important for 
 our sector\, including planning policy\, grid development\, routes to mark
 et for onshore and offshore and more.\nWe will also reflect on the road ah
 ead for the industry including a preview of key upcoming policy and regula
 tory developments expected in 2025.\nThe format of the afternoon will focu
 s on 2 panel discussions\, with each one covering aspects of research\, po
 licy\, and regulation for onshore and offshore wind.\nSession 1 - Navigati
 ng a challenging planning landscape\, chaired by Brian Keville\, Managing 
 Director MKO\, and featuring Claragh Mulhern\, Acting Principal Adviser in
  the Planning Division at the Department of Housing\, Local Government and
  Heritage\, Alison Hardiman\, Consultant\, Environment and Planning Group\
 , Philip Lee\, Tina Raleigh\, Head of Offshore Wind at Statkraft Ireland a
 nd&nbsp\;Caroline Donnelly\, Lead Consents Strategy Manager\, SSE Renewabl
 es.\nSession 2 - Delivering a grid and market designed to deliver our pote
 ntial\, chaired by Margaret Nee\, Head of Grid\, Onshore Wind &amp\; Solar
  at Statkraft Ireland\, and featuring Rory Mullan\, Consultant/Director at
  Mullan Grid\, Kate Garth\, Senior Regulatory Affairs Manager at RWE Renew
 ables\, John McGuckin\, Senior Grid Consultant at ESB\, Eoin McShane\, Pri
 ncipal Officer\, Offshore Energy – Long Term Strategic Planning\, Departme
 nt of the Environment\, Climate and Communications and Siobhan O Shea\, He
 ad of Infrastructure Delivery at EirGrid.\nAfter each session we will be h
 anding our audience the floor to provide their reflections on a busy 12 mo
 nths in Irish energy policy\, and an opportunity to share their opinions o
 n the key issues and opportunities facing the sector in 2025.\nJoin us at 
 the Q4 Policy Forum 1.30pm-5pm on 18th November at Clontarf Castle to find
  out more!\nThis event is being held for WEI members only and is free to a
 ttend. However the venue capacity is limited so be sure to reserve your pl
 ace in advance by emailing events@windenergyireland.com\n&nbsp\; https://w
 ww.windenergyireland.com/events/previous-events/event/83-q4-policy-forum
DTSTART:20241118T133000Z
DTEND:20241118T170000Z
LOCATION:Clontarf Castle Hotel\, Dublin  ()
SUMMARY:Q4 Policy Forum 
URL:https://www.windenergyireland.com/events/previous-events/event/83-q4-po
 licy-forum
END:VEVENT
END:VCALENDAR
