BEGIN:VCALENDAR
VERSION:2.0
PRODID:-//https://www.windenergyireland.com///NONSGML kigkonsult.se iCalcreator 2.10.15//
METHOD:PUBLISH
BEGIN:VEVENT
UID:20260421T083538UTC-8814EHT0KB@https://www.windenergyireland.com/
DTSTAMP:20260421T083538Z
DESCRIPTION: https://www.windenergyireland.com/events/upcoming-events/event
 /121-ireland-electrified-annual-conference-2026
DTSTART:20260910T080000Z
DTEND:20260910T160000Z
LOCATION:Radisson Blu Royal Hotel Golden Lane\, Dublin 8 (Golden Lane\, Dub
 lin 8 )
SUMMARY:Ireland Electrified Annual Conference 2026
URL:https://www.windenergyireland.com/events/upcoming-events/event/121-irel
 and-electrified-annual-conference-2026
END:VEVENT
END:VCALENDAR
